BEGIN:VCALENDAR
VERSION:2.0
PRODID:-//hacksw/handcal//NONSGML v1.0//EN
BEGIN:VEVENT
DTSTART:20260630T173000Z
DTEND:20260630T190000Z
LOCATION:Maison de la méditation \n10 bis rue de la Chine \n75020 Paris
ORGANIZER;CN=Reso -:MAILTO:contact@reso.co
SUMMARY:Atelier découverte
DESCRIPTION:Vous voulez apprendre à pratiquer la méditation ? Vous avez entendu parler de la singularité de notre approche et vous aimeriez en savoir plus ? Nous vous proposons une séance gratuite et sans...
URL:https://www.reso.co/event/atelier-decouverte/2026/06/30/2213
BEGIN:VALARM
TRIGGER:-P0DT1H0M0S
ACTION:DISPLAY
END:VALARM
END:VEVENT
END:VCALENDAR